BEGIN:VCALENDAR
VERSION:2.0
PRODID:-//jEvents 2.0 for Joomla//EN
CALSCALE:GREGORIAN
METHOD:PUBLISH
BEGIN:VTIMEZONE
TZID:America/Los_Angeles
BEGIN:STANDARD
DTSTART:20250107T170000
RDATE:20250309T030000
TZOFFSETFROM:-0700
TZOFFSETTO:-0800
TZNAME:America/Los_Angeles PST
END:STANDARD
BEGIN:STANDARD
DTSTART:20251102T010000
RDATE:20260308T030000
TZOFFSETFROM:-0700
TZOFFSETTO:-0800
TZNAME:America/Los_Angeles PST
END:STANDARD
BEGIN:STANDARD
DTSTART:20261101T010000
RDATE:20270314T030000
TZOFFSETFROM:-0700
TZOFFSETTO:-0800
TZNAME:America/Los_Angeles PST
END:STANDARD
BEGIN:STANDARD
DTSTART:20271107T010000
RDATE:20280312T030000
TZOFFSETFROM:-0700
TZOFFSETTO:-0800
TZNAME:America/Los_Angeles PST
END:STANDARD
BEGIN:STANDARD
DTSTART:20281105T010000
RDATE:20290311T030000
TZOFFSETFROM:-0700
TZOFFSETTO:-0800
TZNAME:America/Los_Angeles PST
END:STANDARD
BEGIN:STANDARD
DTSTART:20291104T010000
RDATE:20300310T030000
TZOFFSETFROM:-0700
TZOFFSETTO:-0800
TZNAME:America/Los_Angeles PST
END:STANDARD
BEGIN:STANDARD
DTSTART:20301103T010000
RDATE:20310309T030000
TZOFFSETFROM:-0700
TZOFFSETTO:-0800
TZNAME:America/Los_Angeles PST
END:STANDARD
BEGIN:DAYLIGHT
DTSTART:20250309T030000
RDATE:20251102T010000
TZOFFSETFROM:-0800
TZOFFSETTO:-0700
TZNAME:America/Los_Angeles PDT
END:DAYLIGHT
BEGIN:DAYLIGHT
DTSTART:20260308T030000
RDATE:20261101T010000
TZOFFSETFROM:-0800
TZOFFSETTO:-0700
TZNAME:America/Los_Angeles PDT
END:DAYLIGHT
BEGIN:DAYLIGHT
DTSTART:20270314T030000
RDATE:20271107T010000
TZOFFSETFROM:-0800
TZOFFSETTO:-0700
TZNAME:America/Los_Angeles PDT
END:DAYLIGHT
BEGIN:DAYLIGHT
DTSTART:20280312T030000
RDATE:20281105T010000
TZOFFSETFROM:-0800
TZOFFSETTO:-0700
TZNAME:America/Los_Angeles PDT
END:DAYLIGHT
BEGIN:DAYLIGHT
DTSTART:20290311T030000
RDATE:20291104T010000
TZOFFSETFROM:-0800
TZOFFSETTO:-0700
TZNAME:America/Los_Angeles PDT
END:DAYLIGHT
BEGIN:DAYLIGHT
DTSTART:20300310T030000
RDATE:20301103T010000
TZOFFSETFROM:-0800
TZOFFSETTO:-0700
TZNAME:America/Los_Angeles PDT
END:DAYLIGHT
END:VTIMEZONE
BEGIN:VEVENT
UID:d040d571f26f144a21e72fb341632f1a
CATEGORIES:Music
CREATED:19691231T160000
SUMMARY:Shepherd's Bells Rehearsal
LOCATION:Sanctuary
DESCRIPTION:<p><span style="font-size: 12pt; font-family: arial, helvetica, sans-serif;
 ">Shepherd's Bells handbell rehearsal.</span></p><p><span style="font-size:
  12pt; font-family: arial, helvetica, sans-serif;"><a href="index.php?optio
 n=com_content&amp;view=article&amp;id=16&amp;Itemid=132">Music</a>&nbsp;lin
 k.</span></p>
X-ALT-DESC;FMTTYPE=text/html:<p><span style="font-size: 12pt; font-family: arial, helvetica, sans-serif;
 ">Shepherd's Bells handbell rehearsal.</span></p><p><span style="font-size:
  12pt; font-family: arial, helvetica, sans-serif;"><a href="https://gslcms.
 org/index.php?option=com_content&amp;view=article&amp;id=16&amp;Itemid=132"
 >Music</a>&nbsp;link.</span></p>
CONTACT:Joan Barnett
DTSTAMP:20260424T053748
DTSTART;TZID=America/Los_Angeles:20260108T170000
DTEND;TZID=America/Los_Angeles:20260108T183000
SEQUENCE:0
RRULE:FREQ=WEEKLY;UNTIL=20260515T000000Z;INTERVAL=1;BYDAY=TH
TRANSP:OPAQUE
END:VEVENT
END:VCALENDAR